BEGIN:VCALENDAR
VERSION:2.0
PRODID:-//Greater Louisville Intergroup of Alcoholics Anonymous - ECPv6.15.20//NONSGML v1.0//EN
CALSCALE:GREGORIAN
METHOD:PUBLISH
X-WR-CALNAME:Greater Louisville Intergroup of Alcoholics Anonymous
X-ORIGINAL-URL:https://loukyaa.org
X-WR-CALDESC:Events for Greater Louisville Intergroup of Alcoholics Anonymous
REFRESH-INTERVAL;VALUE=DURATION:PT1H
X-Robots-Tag:noindex
X-PUBLISHED-TTL:PT1H
BEGIN:VTIMEZONE
TZID:America/Kentucky/Louisville
BEGIN:DAYLIGHT
TZOFFSETFROM:-0500
TZOFFSETTO:-0400
TZNAME:EDT
DTSTART:20250309T070000
END:DAYLIGHT
BEGIN:STANDARD
TZOFFSETFROM:-0400
TZOFFSETTO:-0500
TZNAME:EST
DTSTART:20251102T060000
END:STANDARD
BEGIN:DAYLIGHT
TZOFFSETFROM:-0500
TZOFFSETTO:-0400
TZNAME:EDT
DTSTART:20260308T070000
END:DAYLIGHT
BEGIN:STANDARD
TZOFFSETFROM:-0400
TZOFFSETTO:-0500
TZNAME:EST
DTSTART:20261101T060000
END:STANDARD
BEGIN:DAYLIGHT
TZOFFSETFROM:-0500
TZOFFSETTO:-0400
TZNAME:EDT
DTSTART:20270314T070000
END:DAYLIGHT
BEGIN:STANDARD
TZOFFSETFROM:-0400
TZOFFSETTO:-0500
TZNAME:EST
DTSTART:20271107T060000
END:STANDARD
BEGIN:DAYLIGHT
TZOFFSETFROM:-0500
TZOFFSETTO:-0400
TZNAME:EDT
DTSTART:20280312T070000
END:DAYLIGHT
BEGIN:STANDARD
TZOFFSETFROM:-0400
TZOFFSETTO:-0500
TZNAME:EST
DTSTART:20281105T060000
END:STANDARD
END:VTIMEZONE
BEGIN:VEVENT
DTSTART;VALUE=DATE:20260508
DTEND;VALUE=DATE:20260511
DTSTAMP:20260421T042753
CREATED:20251201T172526Z
LAST-MODIFIED:20251201T172526Z
UID:10000306-1778198400-1778457599@loukyaa.org
SUMMARY:44th Northeast Indiana Convention
DESCRIPTION:2026 Save the Date -1
URL:https://loukyaa.org/event/44th-northeast-indiana-convention/
CATEGORIES:Conventions
ATTACH;FMTTYPE=image/png:https://loukyaa.org/wp-content/uploads/2025/12/Screenshot-2025-12-01-at-12.23.55.png
END:VEVENT
BEGIN:VEVENT
DTSTART;VALUE=DATE:20260508
DTEND;VALUE=DATE:20260511
DTSTAMP:20260421T042753
CREATED:20260113T135744Z
LAST-MODIFIED:20260113T135744Z
UID:10000325-1778198400-1778457599@loukyaa.org
SUMMARY:44th Annual Northeast Indiana Convention and 81st Annual Banquet
DESCRIPTION:
URL:https://loukyaa.org/event/44th-annual-northeast-indiana-convention-and-81st-annual-banquet/
CATEGORIES:Conventions
ATTACH;FMTTYPE=image/png:https://loukyaa.org/wp-content/uploads/2026/01/Screenshot-2026-01-13-at-08.56.28.png
END:VEVENT
BEGIN:VEVENT
DTSTART;TZID=America/Kentucky/Louisville:20260515T150000
DTEND;TZID=America/Kentucky/Louisville:20260516T220000
DTSTAMP:20260421T042753
CREATED:20251013T143236Z
LAST-MODIFIED:20251013T143236Z
UID:10000282-1778857200-1778968800@loukyaa.org
SUMMARY:33rd Falls City Convention 2026
DESCRIPTION:This years’ theme: “Love and tolerance is our code”\n\nEarly Registration is $25 and enters registrants in a drawing for a free week in Amelia Island\, Florida.\n\nEarly registration will end on 12/31/25 and the price will then be $30 until 5/10/26.\n\nRegistration at the door will be $35.\n\n 
URL:https://loukyaa.org/event/33rd-falls-city-convention-2026-2/
LOCATION:Louisville Marriott East\, 1903 Embassy Square Blvd\, Louisville\, 40299\, United States
CATEGORIES:Conventions,Local Events
ATTACH;FMTTYPE=image/jpeg:https://loukyaa.org/wp-content/uploads/2025/10/Copy-of-33FCC-Flyer-Draft-2.1-1-1.jpg
END:VEVENT
BEGIN:VEVENT
DTSTART;VALUE=DATE:20261106
DTEND;VALUE=DATE:20261109
DTSTAMP:20260421T042753
CREATED:20260212T142616Z
LAST-MODIFIED:20260212T142616Z
UID:10000334-1793923200-1794182399@loukyaa.org
SUMMARY:2026 Tri-State AA Convention
DESCRIPTION:
URL:https://loukyaa.org/event/2026-tri-state-aa-convention/
CATEGORIES:Conventions
ATTACH;FMTTYPE=image/png:https://loukyaa.org/wp-content/uploads/2026/02/Screenshot-2026-02-12-at-09.25.34.png
END:VEVENT
BEGIN:VEVENT
DTSTART;TZID=America/Kentucky/Louisville:20270219T080000
DTEND;TZID=America/Kentucky/Louisville:20270221T170000
DTSTAMP:20260421T042753
CREATED:20260212T142357Z
LAST-MODIFIED:20260212T142357Z
UID:10000333-1803024000-1803229200@loukyaa.org
SUMMARY:75th KY State AA Convention
DESCRIPTION:
URL:https://loukyaa.org/event/75th-ky-state-aa-convention/
CATEGORIES:Conventions
ATTACH;FMTTYPE=image/png:https://loukyaa.org/wp-content/uploads/2026/02/Screenshot-2026-02-12-at-09.23.28.png
END:VEVENT
END:VCALENDAR